BEGIN:VCALENDAR
VERSION:2.0
PRODID:-// - ECPv6.15.20//NONSGML v1.0//EN
CALSCALE:GREGORIAN
METHOD:PUBLISH
X-ORIGINAL-URL:https://greenacton.org
X-WR-CALDESC:Events for 
REFRESH-INTERVAL;VALUE=DURATION:PT1H
X-Robots-Tag:noindex
X-PUBLISHED-TTL:PT1H
BEGIN:VTIMEZONE
TZID:America/New_York
BEGIN:DAYLIGHT
TZOFFSETFROM:-0500
TZOFFSETTO:-0400
TZNAME:EDT
DTSTART:20250309T070000
END:DAYLIGHT
BEGIN:STANDARD
TZOFFSETFROM:-0400
TZOFFSETTO:-0500
TZNAME:EST
DTSTART:20251102T060000
END:STANDARD
BEGIN:DAYLIGHT
TZOFFSETFROM:-0500
TZOFFSETTO:-0400
TZNAME:EDT
DTSTART:20260308T070000
END:DAYLIGHT
BEGIN:STANDARD
TZOFFSETFROM:-0400
TZOFFSETTO:-0500
TZNAME:EST
DTSTART:20261101T060000
END:STANDARD
BEGIN:DAYLIGHT
TZOFFSETFROM:-0500
TZOFFSETTO:-0400
TZNAME:EDT
DTSTART:20270314T070000
END:DAYLIGHT
BEGIN:STANDARD
TZOFFSETFROM:-0400
TZOFFSETTO:-0500
TZNAME:EST
DTSTART:20271107T060000
END:STANDARD
END:VTIMEZONE
BEGIN:VEVENT
DTSTART;TZID=America/New_York:20260224T190000
DTEND;TZID=America/New_York:20260224T203000
DTSTAMP:20260423T112859
CREATED:20260222T211334Z
LAST-MODIFIED:20260223T200216Z
UID:10000130-1771959600-1771965000@greenacton.org
SUMMARY:Celebrating Ten Years of Local Climate Work
DESCRIPTION:Learning from Our Towns on Ten Years of Local Climate Work\nCome hear from activists in Acton\, Hudson\, Maynard and Stow\, including Jim Snyder-Grant of Green Acton\,  as they share actions to address the threat of climate change in their communities. They will be joined by Sen Jamie Eldridge who will give us the perspective from Beacon Hill. Preserving a livable environment is now our responsibility. Please join us for this in-person conversation.\nTuesday\, Feb 24 at 7PM at First Parish of Stow and Acton\, 353 Great Rd in Stow. \nFirst Parish of Stow and Acton
URL:https://greenacton.org/event/celebrating-ten-years-of-local-climate-work/
LOCATION:First Parish of Stow and Acton\, 353 Great Rd\, Stow\, MA\, United States
END:VEVENT
END:VCALENDAR