BEGIN:VCALENDAR
VERSION:2.0
PRODID:-// - ECPv6.15.20//NONSGML v1.0//EN
CALSCALE:GREGORIAN
METHOD:PUBLISH
X-ORIGINAL-URL:https://greenacton.org
X-WR-CALDESC:Events for 
REFRESH-INTERVAL;VALUE=DURATION:PT1H
X-Robots-Tag:noindex
X-PUBLISHED-TTL:PT1H
BEGIN:VTIMEZONE
TZID:America/New_York
BEGIN:DAYLIGHT
TZOFFSETFROM:-0500
TZOFFSETTO:-0400
TZNAME:EDT
DTSTART:20250309T070000
END:DAYLIGHT
BEGIN:STANDARD
TZOFFSETFROM:-0400
TZOFFSETTO:-0500
TZNAME:EST
DTSTART:20251102T060000
END:STANDARD
BEGIN:DAYLIGHT
TZOFFSETFROM:-0500
TZOFFSETTO:-0400
TZNAME:EDT
DTSTART:20260308T070000
END:DAYLIGHT
BEGIN:STANDARD
TZOFFSETFROM:-0400
TZOFFSETTO:-0500
TZNAME:EST
DTSTART:20261101T060000
END:STANDARD
BEGIN:DAYLIGHT
TZOFFSETFROM:-0500
TZOFFSETTO:-0400
TZNAME:EDT
DTSTART:20270314T070000
END:DAYLIGHT
BEGIN:STANDARD
TZOFFSETFROM:-0400
TZOFFSETTO:-0500
TZNAME:EST
DTSTART:20271107T060000
END:STANDARD
END:VTIMEZONE
BEGIN:VEVENT
DTSTART;TZID=America/New_York:20260504T190000
DTEND;TZID=America/New_York:20260504T203000
DTSTAMP:20260423T073024
CREATED:20260324T011354Z
LAST-MODIFIED:20260324T011354Z
UID:10000197-1777921200-1777926600@greenacton.org
SUMMARY:Materials Committee
DESCRIPTION:Meets by Zoom. Contact materials-contact@greenacton.org for zoom link or for more information. \nYou can learn more about the materials committee at greenacton.org/materials-committee
URL:https://greenacton.org/event/materials-committee-4/
CATEGORIES:materials
END:VEVENT
BEGIN:VEVENT
DTSTART;TZID=America/New_York:20260512T190000
DTEND;TZID=America/New_York:20260512T210000
DTSTAMP:20260423T073024
CREATED:20260324T010539Z
LAST-MODIFIED:20260324T010539Z
UID:10000195-1778612400-1778619600@greenacton.org
SUMMARY:May Green Acton Meeting
DESCRIPTION:All are welcome to Green Acton monthly meetings.\nGuidelines for participation: https://greenacton.org/meeting-guidelines/\nAgenda and location or Zoom info will be posted to the announcements list \nhttps://groups.google.com/g/green-acton-announcements \n 
URL:https://greenacton.org/event/may2026-green-acton-meeting/
CATEGORIES:green-acton-monthly
END:VEVENT
BEGIN:VEVENT
DTSTART;TZID=America/New_York:20260517T140000
DTEND;TZID=America/New_York:20260517T160000
DTSTAMP:20260423T073024
CREATED:20260111T141907Z
LAST-MODIFIED:20260112T195014Z
UID:10000120-1779026400-1779033600@greenacton.org
SUMMARY:Water Committee:  May 2026
DESCRIPTION:The Green Acton Water Committee welcomes anyone interested in Acton’s brooks\, ponds\, wetlands\, groundwater\, drinking water\, storm water\, wastewater\, or aquatic ecosystems.  For more information about our work to date\, visit our committee website. \nOur April 2026 meeting will be in hybrid format; join us either in the 2nd floor conference room of Acton Memorial Library\, or by zoom.  For the agenda and zoom link\, please email water-contact@greenacton.org \nNote that we are not meeting on our usual 2nd Sunday time slot so as to avoid Mothers’ Day.
URL:https://greenacton.org/event/water-committee-may-2026/
LOCATION:Acton Memorial Library\, 486 Main Street\, Acton\, MA\, 01720\, United States
CATEGORIES:water
END:VEVENT
BEGIN:VEVENT
DTSTART;TZID=America/New_York:20260521T190000
DTEND;TZID=America/New_York:20260521T203000
DTSTAMP:20260423T073024
CREATED:20260226T224720Z
LAST-MODIFIED:20260317T142754Z
UID:10000134-1779390000-1779395400@greenacton.org
SUMMARY:Biodiversity Committee Meeting
DESCRIPTION:email biodiversity-contact@greenacton.org for more information\, such as location or zoom link
URL:https://greenacton.org/event/biodiversity-committee-7/2026-05-21/
CATEGORIES:biodiversity,monthly-meeting
END:VEVENT
END:VCALENDAR