BEGIN:VCALENDAR
VERSION:2.0
PRODID:-// - ECPv6.15.20//NONSGML v1.0//EN
CALSCALE:GREGORIAN
METHOD:PUBLISH
X-ORIGINAL-URL:https://greenacton.org
X-WR-CALDESC:Events for 
REFRESH-INTERVAL;VALUE=DURATION:PT1H
X-Robots-Tag:noindex
X-PUBLISHED-TTL:PT1H
BEGIN:VTIMEZONE
TZID:America/New_York
BEGIN:DAYLIGHT
TZOFFSETFROM:-0500
TZOFFSETTO:-0400
TZNAME:EDT
DTSTART:20250309T070000
END:DAYLIGHT
BEGIN:STANDARD
TZOFFSETFROM:-0400
TZOFFSETTO:-0500
TZNAME:EST
DTSTART:20251102T060000
END:STANDARD
BEGIN:DAYLIGHT
TZOFFSETFROM:-0500
TZOFFSETTO:-0400
TZNAME:EDT
DTSTART:20260308T070000
END:DAYLIGHT
BEGIN:STANDARD
TZOFFSETFROM:-0400
TZOFFSETTO:-0500
TZNAME:EST
DTSTART:20261101T060000
END:STANDARD
BEGIN:DAYLIGHT
TZOFFSETFROM:-0500
TZOFFSETTO:-0400
TZNAME:EDT
DTSTART:20270314T070000
END:DAYLIGHT
BEGIN:STANDARD
TZOFFSETFROM:-0400
TZOFFSETTO:-0500
TZNAME:EST
DTSTART:20271107T060000
END:STANDARD
END:VTIMEZONE
BEGIN:VEVENT
DTSTART;TZID=America/New_York:20260208T140000
DTEND;TZID=America/New_York:20260208T160000
DTSTAMP:20260423T091206
CREATED:20260111T141456Z
LAST-MODIFIED:20260111T142306Z
UID:10000118-1770559200-1770566400@greenacton.org
SUMMARY:Water Committee:  February 2026
DESCRIPTION:The Green Acton Water Committee welcomes anyone interested in Acton’s brooks\, ponds\, wetlands\, groundwater\, drinking water\, storm water\, wastewater\, or aquatic ecosystems.  For more information about our work to date\, visit our committee website. \nOur February 2026 meeting will be in hybrid format; join us either in the 2nd floor conference room of Acton Memorial Library\, or by zoom.  For the agenda and zoom link\, please email water-contact@greenacton.org
URL:https://greenacton.org/event/water-committee-february-2026/
LOCATION:Acton Memorial Library\, 486 Main Street\, Acton\, MA\, 01720\, United States
CATEGORIES:water
ORGANIZER;CN="Water Committee":MAILTO:water-committee-contact@greenacton.org
END:VEVENT
BEGIN:VEVENT
DTSTART;TZID=America/New_York:20260210T190000
DTEND;TZID=America/New_York:20260210T210000
DTSTAMP:20260423T091206
CREATED:20260118T225652Z
LAST-MODIFIED:20260118T231822Z
UID:10000126-1770750000-1770757200@greenacton.org
SUMMARY:February Green Acton Meeting
DESCRIPTION:All are welcome to Green Acton monthly meetings.\nGuidelines for participation: https://greenacton.org/meeting-guidelines/\nAgenda and location or Zoom info will be posted to the announcements list \nhttps://groups.google.com/g/green-acton-announcements \nThe February meeting will be held in Room 126\, Acton Town Hall\, with a Zoom option
URL:https://greenacton.org/event/february-green-acton-meeting/
LOCATION:Acton Town Hall\, 472 Main Street\, Acton\, MA\, 01720\, United States
CATEGORIES:green-acton-monthly
END:VEVENT
BEGIN:VEVENT
DTSTART;TZID=America/New_York:20260216T190000
DTEND;TZID=America/New_York:20260216T200000
DTSTAMP:20260423T091206
CREATED:20260129T160127Z
LAST-MODIFIED:20260129T160127Z
UID:10000127-1771268400-1771272000@greenacton.org
SUMMARY:Energy Committee
DESCRIPTION:Reach us at energy-contact@greenacton.org if you have any questions
URL:https://greenacton.org/event/energy-committee/
CATEGORIES:energy
END:VEVENT
BEGIN:VEVENT
DTSTART;TZID=America/New_York:20260219T200000
DTEND;TZID=America/New_York:20260219T200000
DTSTAMP:20260423T091206
CREATED:20260118T225249Z
LAST-MODIFIED:20260118T225249Z
UID:10000124-1771531200-1771531200@greenacton.org
SUMMARY:Biodiversity Committee
DESCRIPTION:email biodiversity-contact@greenacton.org for more information\, such as location or zoom link
URL:https://greenacton.org/event/biodiversity-committee-4/
CATEGORIES:biodiversity
END:VEVENT
BEGIN:VEVENT
DTSTART;TZID=America/New_York:20260224T190000
DTEND;TZID=America/New_York:20260224T203000
DTSTAMP:20260423T091206
CREATED:20260222T211334Z
LAST-MODIFIED:20260223T200216Z
UID:10000130-1771959600-1771965000@greenacton.org
SUMMARY:Celebrating Ten Years of Local Climate Work
DESCRIPTION:Learning from Our Towns on Ten Years of Local Climate Work\nCome hear from activists in Acton\, Hudson\, Maynard and Stow\, including Jim Snyder-Grant of Green Acton\,  as they share actions to address the threat of climate change in their communities. They will be joined by Sen Jamie Eldridge who will give us the perspective from Beacon Hill. Preserving a livable environment is now our responsibility. Please join us for this in-person conversation.\nTuesday\, Feb 24 at 7PM at First Parish of Stow and Acton\, 353 Great Rd in Stow.
URL:https://greenacton.org/event/celebrating-ten-years-of-local-climate-work/
LOCATION:First Parish of Stow and Acton\, 353 Great Rd\, Stow\, MA\, United States
END:VEVENT
BEGIN:VEVENT
DTSTART;TZID=America/New_York:20260225T170000
DTEND;TZID=America/New_York:20260225T183000
DTSTAMP:20260423T091206
CREATED:20260129T160427Z
LAST-MODIFIED:20260129T160515Z
UID:10000128-1772038800-1772044200@greenacton.org
SUMMARY:Land Use Committee
DESCRIPTION:All are invited to Green Acton’s Land Use committee meetings every 4th Wednesday \nQuestions? Contact landuse@greenacton.org
URL:https://greenacton.org/event/land-use-committee/
CATEGORIES:landuse
END:VEVENT
END:VCALENDAR