BEGIN:VCALENDAR
VERSION:2.0
PRODID:-// - ECPv6.15.20//NONSGML v1.0//EN
CALSCALE:GREGORIAN
METHOD:PUBLISH
X-ORIGINAL-URL:https://greenacton.org
X-WR-CALDESC:Events for 
REFRESH-INTERVAL;VALUE=DURATION:PT1H
X-Robots-Tag:noindex
X-PUBLISHED-TTL:PT1H
BEGIN:VTIMEZONE
TZID:America/New_York
BEGIN:DAYLIGHT
TZOFFSETFROM:-0500
TZOFFSETTO:-0400
TZNAME:EDT
DTSTART:20290311T070000
END:DAYLIGHT
BEGIN:STANDARD
TZOFFSETFROM:-0400
TZOFFSETTO:-0500
TZNAME:EST
DTSTART:20291104T060000
END:STANDARD
BEGIN:DAYLIGHT
TZOFFSETFROM:-0500
TZOFFSETTO:-0400
TZNAME:EDT
DTSTART:20300310T070000
END:DAYLIGHT
BEGIN:STANDARD
TZOFFSETFROM:-0400
TZOFFSETTO:-0500
TZNAME:EST
DTSTART:20301103T060000
END:STANDARD
BEGIN:DAYLIGHT
TZOFFSETFROM:-0500
TZOFFSETTO:-0400
TZNAME:EDT
DTSTART:20310309T070000
END:DAYLIGHT
BEGIN:STANDARD
TZOFFSETFROM:-0400
TZOFFSETTO:-0500
TZNAME:EST
DTSTART:20311102T060000
END:STANDARD
BEGIN:DAYLIGHT
TZOFFSETFROM:-0500
TZOFFSETTO:-0400
TZNAME:EDT
DTSTART:20320314T070000
END:DAYLIGHT
BEGIN:STANDARD
TZOFFSETFROM:-0400
TZOFFSETTO:-0500
TZNAME:EST
DTSTART:20321107T060000
END:STANDARD
END:VTIMEZONE
BEGIN:VEVENT
DTSTART;TZID=America/New_York:20301017T190000
DTEND;TZID=America/New_York:20301017T203000
DTSTAMP:20260423T143326
CREATED:20260226T224720Z
LAST-MODIFIED:20260317T142754Z
UID:10000187-1918494000-1918499400@greenacton.org
SUMMARY:Biodiversity Committee Meeting
DESCRIPTION:email biodiversity-contact@greenacton.org for more information\, such as location or zoom link
URL:https://greenacton.org/event/biodiversity-committee-7/2030-10-17/
CATEGORIES:biodiversity,monthly-meeting
END:VEVENT
BEGIN:VEVENT
DTSTART;TZID=America/New_York:20301121T190000
DTEND;TZID=America/New_York:20301121T203000
DTSTAMP:20260423T143326
CREATED:20260226T224720Z
LAST-MODIFIED:20260317T142754Z
UID:10000188-1921518000-1921523400@greenacton.org
SUMMARY:Biodiversity Committee Meeting
DESCRIPTION:email biodiversity-contact@greenacton.org for more information\, such as location or zoom link
URL:https://greenacton.org/event/biodiversity-committee-7/2030-11-21/
CATEGORIES:biodiversity,monthly-meeting
END:VEVENT
BEGIN:VEVENT
DTSTART;TZID=America/New_York:20301219T190000
DTEND;TZID=America/New_York:20301219T203000
DTSTAMP:20260423T143326
CREATED:20260226T224720Z
LAST-MODIFIED:20260317T142754Z
UID:10000189-1923937200-1923942600@greenacton.org
SUMMARY:Biodiversity Committee Meeting
DESCRIPTION:email biodiversity-contact@greenacton.org for more information\, such as location or zoom link
URL:https://greenacton.org/event/biodiversity-committee-7/2030-12-19/
CATEGORIES:biodiversity,monthly-meeting
END:VEVENT
BEGIN:VEVENT
DTSTART;TZID=America/New_York:20310116T190000
DTEND;TZID=America/New_York:20310116T203000
DTSTAMP:20260423T143326
CREATED:20260226T224720Z
LAST-MODIFIED:20260317T142754Z
UID:10000190-1926356400-1926361800@greenacton.org
SUMMARY:Biodiversity Committee Meeting
DESCRIPTION:email biodiversity-contact@greenacton.org for more information\, such as location or zoom link
URL:https://greenacton.org/event/biodiversity-committee-7/2031-01-16/
CATEGORIES:biodiversity,monthly-meeting
END:VEVENT
BEGIN:VEVENT
DTSTART;TZID=America/New_York:20310220T190000
DTEND;TZID=America/New_York:20310220T203000
DTSTAMP:20260423T143326
CREATED:20260226T224720Z
LAST-MODIFIED:20260317T142754Z
UID:10000191-1929380400-1929385800@greenacton.org
SUMMARY:Biodiversity Committee Meeting
DESCRIPTION:email biodiversity-contact@greenacton.org for more information\, such as location or zoom link
URL:https://greenacton.org/event/biodiversity-committee-7/2031-02-20/
CATEGORIES:biodiversity,monthly-meeting
END:VEVENT
END:VCALENDAR