BEGIN:VCALENDAR
VERSION:2.0
PRODID:-// - ECPv6.15.20//NONSGML v1.0//EN
CALSCALE:GREGORIAN
METHOD:PUBLISH
X-ORIGINAL-URL:https://greenacton.org
X-WR-CALDESC:Events for 
REFRESH-INTERVAL;VALUE=DURATION:PT1H
X-Robots-Tag:noindex
X-PUBLISHED-TTL:PT1H
BEGIN:VTIMEZONE
TZID:America/New_York
BEGIN:DAYLIGHT
TZOFFSETFROM:-0500
TZOFFSETTO:-0400
TZNAME:EDT
DTSTART:20270314T070000
END:DAYLIGHT
BEGIN:STANDARD
TZOFFSETFROM:-0400
TZOFFSETTO:-0500
TZNAME:EST
DTSTART:20271107T060000
END:STANDARD
BEGIN:DAYLIGHT
TZOFFSETFROM:-0500
TZOFFSETTO:-0400
TZNAME:EDT
DTSTART:20280312T070000
END:DAYLIGHT
BEGIN:STANDARD
TZOFFSETFROM:-0400
TZOFFSETTO:-0500
TZNAME:EST
DTSTART:20281105T060000
END:STANDARD
BEGIN:DAYLIGHT
TZOFFSETFROM:-0500
TZOFFSETTO:-0400
TZNAME:EDT
DTSTART:20290311T070000
END:DAYLIGHT
BEGIN:STANDARD
TZOFFSETFROM:-0400
TZOFFSETTO:-0500
TZNAME:EST
DTSTART:20291104T060000
END:STANDARD
BEGIN:DAYLIGHT
TZOFFSETFROM:-0500
TZOFFSETTO:-0400
TZNAME:EDT
DTSTART:20300310T070000
END:DAYLIGHT
BEGIN:STANDARD
TZOFFSETFROM:-0400
TZOFFSETTO:-0500
TZNAME:EST
DTSTART:20301103T060000
END:STANDARD
BEGIN:DAYLIGHT
TZOFFSETFROM:-0500
TZOFFSETTO:-0400
TZNAME:EDT
DTSTART:20310309T070000
END:DAYLIGHT
BEGIN:STANDARD
TZOFFSETFROM:-0400
TZOFFSETTO:-0500
TZNAME:EST
DTSTART:20311102T060000
END:STANDARD
END:VTIMEZONE
BEGIN:VEVENT
DTSTART;TZID=America/New_York:20280420T190000
DTEND;TZID=America/New_York:20280420T203000
DTSTAMP:20260423T184005
CREATED:20260226T224720Z
LAST-MODIFIED:20260317T142754Z
UID:10000157-1839870000-1839875400@greenacton.org
SUMMARY:Biodiversity Committee Meeting
DESCRIPTION:email biodiversity-contact@greenacton.org for more information\, such as location or zoom link
URL:https://greenacton.org/event/biodiversity-committee-7/2028-04-20/
CATEGORIES:biodiversity,monthly-meeting
END:VEVENT
BEGIN:VEVENT
DTSTART;TZID=America/New_York:20280518T190000
DTEND;TZID=America/New_York:20280518T203000
DTSTAMP:20260423T184005
CREATED:20260226T224720Z
LAST-MODIFIED:20260317T142754Z
UID:10000158-1842289200-1842294600@greenacton.org
SUMMARY:Biodiversity Committee Meeting
DESCRIPTION:email biodiversity-contact@greenacton.org for more information\, such as location or zoom link
URL:https://greenacton.org/event/biodiversity-committee-7/2028-05-18/
CATEGORIES:biodiversity,monthly-meeting
END:VEVENT
BEGIN:VEVENT
DTSTART;TZID=America/New_York:20280615T190000
DTEND;TZID=America/New_York:20280615T203000
DTSTAMP:20260423T184005
CREATED:20260226T224720Z
LAST-MODIFIED:20260317T142754Z
UID:10000159-1844708400-1844713800@greenacton.org
SUMMARY:Biodiversity Committee Meeting
DESCRIPTION:email biodiversity-contact@greenacton.org for more information\, such as location or zoom link
URL:https://greenacton.org/event/biodiversity-committee-7/2028-06-15/
CATEGORIES:biodiversity,monthly-meeting
END:VEVENT
BEGIN:VEVENT
DTSTART;TZID=America/New_York:20280720T190000
DTEND;TZID=America/New_York:20280720T203000
DTSTAMP:20260423T184005
CREATED:20260226T224720Z
LAST-MODIFIED:20260317T142754Z
UID:10000160-1847732400-1847737800@greenacton.org
SUMMARY:Biodiversity Committee Meeting
DESCRIPTION:email biodiversity-contact@greenacton.org for more information\, such as location or zoom link
URL:https://greenacton.org/event/biodiversity-committee-7/2028-07-20/
CATEGORIES:biodiversity,monthly-meeting
END:VEVENT
BEGIN:VEVENT
DTSTART;TZID=America/New_York:20280817T190000
DTEND;TZID=America/New_York:20280817T203000
DTSTAMP:20260423T184005
CREATED:20260226T224720Z
LAST-MODIFIED:20260317T142754Z
UID:10000161-1850151600-1850157000@greenacton.org
SUMMARY:Biodiversity Committee Meeting
DESCRIPTION:email biodiversity-contact@greenacton.org for more information\, such as location or zoom link
URL:https://greenacton.org/event/biodiversity-committee-7/2028-08-17/
CATEGORIES:biodiversity,monthly-meeting
END:VEVENT
BEGIN:VEVENT
DTSTART;TZID=America/New_York:20280921T190000
DTEND;TZID=America/New_York:20280921T203000
DTSTAMP:20260423T184005
CREATED:20260226T224720Z
LAST-MODIFIED:20260317T142754Z
UID:10000162-1853175600-1853181000@greenacton.org
SUMMARY:Biodiversity Committee Meeting
DESCRIPTION:email biodiversity-contact@greenacton.org for more information\, such as location or zoom link
URL:https://greenacton.org/event/biodiversity-committee-7/2028-09-21/
CATEGORIES:biodiversity,monthly-meeting
END:VEVENT
BEGIN:VEVENT
DTSTART;TZID=America/New_York:20281019T190000
DTEND;TZID=America/New_York:20281019T203000
DTSTAMP:20260423T184005
CREATED:20260226T224720Z
LAST-MODIFIED:20260317T142754Z
UID:10000163-1855594800-1855600200@greenacton.org
SUMMARY:Biodiversity Committee Meeting
DESCRIPTION:email biodiversity-contact@greenacton.org for more information\, such as location or zoom link
URL:https://greenacton.org/event/biodiversity-committee-7/2028-10-19/
CATEGORIES:biodiversity,monthly-meeting
END:VEVENT
BEGIN:VEVENT
DTSTART;TZID=America/New_York:20281116T190000
DTEND;TZID=America/New_York:20281116T203000
DTSTAMP:20260423T184005
CREATED:20260226T224720Z
LAST-MODIFIED:20260317T142754Z
UID:10000164-1858014000-1858019400@greenacton.org
SUMMARY:Biodiversity Committee Meeting
DESCRIPTION:email biodiversity-contact@greenacton.org for more information\, such as location or zoom link
URL:https://greenacton.org/event/biodiversity-committee-7/2028-11-16/
CATEGORIES:biodiversity,monthly-meeting
END:VEVENT
BEGIN:VEVENT
DTSTART;TZID=America/New_York:20281221T190000
DTEND;TZID=America/New_York:20281221T203000
DTSTAMP:20260423T184005
CREATED:20260226T224720Z
LAST-MODIFIED:20260317T142754Z
UID:10000165-1861038000-1861043400@greenacton.org
SUMMARY:Biodiversity Committee Meeting
DESCRIPTION:email biodiversity-contact@greenacton.org for more information\, such as location or zoom link
URL:https://greenacton.org/event/biodiversity-committee-7/2028-12-21/
CATEGORIES:biodiversity,monthly-meeting
END:VEVENT
BEGIN:VEVENT
DTSTART;TZID=America/New_York:20290118T190000
DTEND;TZID=America/New_York:20290118T203000
DTSTAMP:20260423T184005
CREATED:20260226T224720Z
LAST-MODIFIED:20260317T142754Z
UID:10000166-1863457200-1863462600@greenacton.org
SUMMARY:Biodiversity Committee Meeting
DESCRIPTION:email biodiversity-contact@greenacton.org for more information\, such as location or zoom link
URL:https://greenacton.org/event/biodiversity-committee-7/2029-01-18/
CATEGORIES:biodiversity,monthly-meeting
END:VEVENT
BEGIN:VEVENT
DTSTART;TZID=America/New_York:20290215T190000
DTEND;TZID=America/New_York:20290215T203000
DTSTAMP:20260423T184005
CREATED:20260226T224720Z
LAST-MODIFIED:20260317T142754Z
UID:10000167-1865876400-1865881800@greenacton.org
SUMMARY:Biodiversity Committee Meeting
DESCRIPTION:email biodiversity-contact@greenacton.org for more information\, such as location or zoom link
URL:https://greenacton.org/event/biodiversity-committee-7/2029-02-15/
CATEGORIES:biodiversity,monthly-meeting
END:VEVENT
BEGIN:VEVENT
DTSTART;TZID=America/New_York:20290315T190000
DTEND;TZID=America/New_York:20290315T203000
DTSTAMP:20260423T184005
CREATED:20260226T224720Z
LAST-MODIFIED:20260317T142754Z
UID:10000168-1868295600-1868301000@greenacton.org
SUMMARY:Biodiversity Committee Meeting
DESCRIPTION:email biodiversity-contact@greenacton.org for more information\, such as location or zoom link
URL:https://greenacton.org/event/biodiversity-committee-7/2029-03-15/
CATEGORIES:biodiversity,monthly-meeting
END:VEVENT
BEGIN:VEVENT
DTSTART;TZID=America/New_York:20290419T190000
DTEND;TZID=America/New_York:20290419T203000
DTSTAMP:20260423T184005
CREATED:20260226T224720Z
LAST-MODIFIED:20260317T142754Z
UID:10000169-1871319600-1871325000@greenacton.org
SUMMARY:Biodiversity Committee Meeting
DESCRIPTION:email biodiversity-contact@greenacton.org for more information\, such as location or zoom link
URL:https://greenacton.org/event/biodiversity-committee-7/2029-04-19/
CATEGORIES:biodiversity,monthly-meeting
END:VEVENT
BEGIN:VEVENT
DTSTART;TZID=America/New_York:20290517T190000
DTEND;TZID=America/New_York:20290517T203000
DTSTAMP:20260423T184005
CREATED:20260226T224720Z
LAST-MODIFIED:20260317T142754Z
UID:10000170-1873738800-1873744200@greenacton.org
SUMMARY:Biodiversity Committee Meeting
DESCRIPTION:email biodiversity-contact@greenacton.org for more information\, such as location or zoom link
URL:https://greenacton.org/event/biodiversity-committee-7/2029-05-17/
CATEGORIES:biodiversity,monthly-meeting
END:VEVENT
BEGIN:VEVENT
DTSTART;TZID=America/New_York:20290621T190000
DTEND;TZID=America/New_York:20290621T203000
DTSTAMP:20260423T184005
CREATED:20260226T224720Z
LAST-MODIFIED:20260317T142754Z
UID:10000171-1876762800-1876768200@greenacton.org
SUMMARY:Biodiversity Committee Meeting
DESCRIPTION:email biodiversity-contact@greenacton.org for more information\, such as location or zoom link
URL:https://greenacton.org/event/biodiversity-committee-7/2029-06-21/
CATEGORIES:biodiversity,monthly-meeting
END:VEVENT
BEGIN:VEVENT
DTSTART;TZID=America/New_York:20290719T190000
DTEND;TZID=America/New_York:20290719T203000
DTSTAMP:20260423T184005
CREATED:20260226T224720Z
LAST-MODIFIED:20260317T142754Z
UID:10000172-1879182000-1879187400@greenacton.org
SUMMARY:Biodiversity Committee Meeting
DESCRIPTION:email biodiversity-contact@greenacton.org for more information\, such as location or zoom link
URL:https://greenacton.org/event/biodiversity-committee-7/2029-07-19/
CATEGORIES:biodiversity,monthly-meeting
END:VEVENT
BEGIN:VEVENT
DTSTART;TZID=America/New_York:20290816T190000
DTEND;TZID=America/New_York:20290816T203000
DTSTAMP:20260423T184005
CREATED:20260226T224720Z
LAST-MODIFIED:20260317T142754Z
UID:10000173-1881601200-1881606600@greenacton.org
SUMMARY:Biodiversity Committee Meeting
DESCRIPTION:email biodiversity-contact@greenacton.org for more information\, such as location or zoom link
URL:https://greenacton.org/event/biodiversity-committee-7/2029-08-16/
CATEGORIES:biodiversity,monthly-meeting
END:VEVENT
BEGIN:VEVENT
DTSTART;TZID=America/New_York:20290920T190000
DTEND;TZID=America/New_York:20290920T203000
DTSTAMP:20260423T184005
CREATED:20260226T224720Z
LAST-MODIFIED:20260317T142754Z
UID:10000174-1884625200-1884630600@greenacton.org
SUMMARY:Biodiversity Committee Meeting
DESCRIPTION:email biodiversity-contact@greenacton.org for more information\, such as location or zoom link
URL:https://greenacton.org/event/biodiversity-committee-7/2029-09-20/
CATEGORIES:biodiversity,monthly-meeting
END:VEVENT
BEGIN:VEVENT
DTSTART;TZID=America/New_York:20291018T190000
DTEND;TZID=America/New_York:20291018T203000
DTSTAMP:20260423T184005
CREATED:20260226T224720Z
LAST-MODIFIED:20260317T142754Z
UID:10000175-1887044400-1887049800@greenacton.org
SUMMARY:Biodiversity Committee Meeting
DESCRIPTION:email biodiversity-contact@greenacton.org for more information\, such as location or zoom link
URL:https://greenacton.org/event/biodiversity-committee-7/2029-10-18/
CATEGORIES:biodiversity,monthly-meeting
END:VEVENT
BEGIN:VEVENT
DTSTART;TZID=America/New_York:20291115T190000
DTEND;TZID=America/New_York:20291115T203000
DTSTAMP:20260423T184005
CREATED:20260226T224720Z
LAST-MODIFIED:20260317T142754Z
UID:10000176-1889463600-1889469000@greenacton.org
SUMMARY:Biodiversity Committee Meeting
DESCRIPTION:email biodiversity-contact@greenacton.org for more information\, such as location or zoom link
URL:https://greenacton.org/event/biodiversity-committee-7/2029-11-15/
CATEGORIES:biodiversity,monthly-meeting
END:VEVENT
BEGIN:VEVENT
DTSTART;TZID=America/New_York:20291220T190000
DTEND;TZID=America/New_York:20291220T203000
DTSTAMP:20260423T184005
CREATED:20260226T224720Z
LAST-MODIFIED:20260317T142754Z
UID:10000177-1892487600-1892493000@greenacton.org
SUMMARY:Biodiversity Committee Meeting
DESCRIPTION:email biodiversity-contact@greenacton.org for more information\, such as location or zoom link
URL:https://greenacton.org/event/biodiversity-committee-7/2029-12-20/
CATEGORIES:biodiversity,monthly-meeting
END:VEVENT
BEGIN:VEVENT
DTSTART;TZID=America/New_York:20300117T190000
DTEND;TZID=America/New_York:20300117T203000
DTSTAMP:20260423T184005
CREATED:20260226T224720Z
LAST-MODIFIED:20260317T142754Z
UID:10000178-1894906800-1894912200@greenacton.org
SUMMARY:Biodiversity Committee Meeting
DESCRIPTION:email biodiversity-contact@greenacton.org for more information\, such as location or zoom link
URL:https://greenacton.org/event/biodiversity-committee-7/2030-01-17/
CATEGORIES:biodiversity,monthly-meeting
END:VEVENT
BEGIN:VEVENT
DTSTART;TZID=America/New_York:20300221T190000
DTEND;TZID=America/New_York:20300221T203000
DTSTAMP:20260423T184005
CREATED:20260226T224720Z
LAST-MODIFIED:20260317T142754Z
UID:10000179-1897930800-1897936200@greenacton.org
SUMMARY:Biodiversity Committee Meeting
DESCRIPTION:email biodiversity-contact@greenacton.org for more information\, such as location or zoom link
URL:https://greenacton.org/event/biodiversity-committee-7/2030-02-21/
CATEGORIES:biodiversity,monthly-meeting
END:VEVENT
BEGIN:VEVENT
DTSTART;TZID=America/New_York:20300321T190000
DTEND;TZID=America/New_York:20300321T203000
DTSTAMP:20260423T184005
CREATED:20260226T224720Z
LAST-MODIFIED:20260317T142754Z
UID:10000180-1900350000-1900355400@greenacton.org
SUMMARY:Biodiversity Committee Meeting
DESCRIPTION:email biodiversity-contact@greenacton.org for more information\, such as location or zoom link
URL:https://greenacton.org/event/biodiversity-committee-7/2030-03-21/
CATEGORIES:biodiversity,monthly-meeting
END:VEVENT
BEGIN:VEVENT
DTSTART;TZID=America/New_York:20300418T190000
DTEND;TZID=America/New_York:20300418T203000
DTSTAMP:20260423T184005
CREATED:20260226T224720Z
LAST-MODIFIED:20260317T142754Z
UID:10000181-1902769200-1902774600@greenacton.org
SUMMARY:Biodiversity Committee Meeting
DESCRIPTION:email biodiversity-contact@greenacton.org for more information\, such as location or zoom link
URL:https://greenacton.org/event/biodiversity-committee-7/2030-04-18/
CATEGORIES:biodiversity,monthly-meeting
END:VEVENT
BEGIN:VEVENT
DTSTART;TZID=America/New_York:20300516T190000
DTEND;TZID=America/New_York:20300516T203000
DTSTAMP:20260423T184005
CREATED:20260226T224720Z
LAST-MODIFIED:20260317T142754Z
UID:10000182-1905188400-1905193800@greenacton.org
SUMMARY:Biodiversity Committee Meeting
DESCRIPTION:email biodiversity-contact@greenacton.org for more information\, such as location or zoom link
URL:https://greenacton.org/event/biodiversity-committee-7/2030-05-16/
CATEGORIES:biodiversity,monthly-meeting
END:VEVENT
BEGIN:VEVENT
DTSTART;TZID=America/New_York:20300620T190000
DTEND;TZID=America/New_York:20300620T203000
DTSTAMP:20260423T184005
CREATED:20260226T224720Z
LAST-MODIFIED:20260317T142754Z
UID:10000183-1908212400-1908217800@greenacton.org
SUMMARY:Biodiversity Committee Meeting
DESCRIPTION:email biodiversity-contact@greenacton.org for more information\, such as location or zoom link
URL:https://greenacton.org/event/biodiversity-committee-7/2030-06-20/
CATEGORIES:biodiversity,monthly-meeting
END:VEVENT
BEGIN:VEVENT
DTSTART;TZID=America/New_York:20300718T190000
DTEND;TZID=America/New_York:20300718T203000
DTSTAMP:20260423T184005
CREATED:20260226T224720Z
LAST-MODIFIED:20260317T142754Z
UID:10000184-1910631600-1910637000@greenacton.org
SUMMARY:Biodiversity Committee Meeting
DESCRIPTION:email biodiversity-contact@greenacton.org for more information\, such as location or zoom link
URL:https://greenacton.org/event/biodiversity-committee-7/2030-07-18/
CATEGORIES:biodiversity,monthly-meeting
END:VEVENT
BEGIN:VEVENT
DTSTART;TZID=America/New_York:20300815T190000
DTEND;TZID=America/New_York:20300815T203000
DTSTAMP:20260423T184005
CREATED:20260226T224720Z
LAST-MODIFIED:20260317T142754Z
UID:10000185-1913050800-1913056200@greenacton.org
SUMMARY:Biodiversity Committee Meeting
DESCRIPTION:email biodiversity-contact@greenacton.org for more information\, such as location or zoom link
URL:https://greenacton.org/event/biodiversity-committee-7/2030-08-15/
CATEGORIES:biodiversity,monthly-meeting
END:VEVENT
BEGIN:VEVENT
DTSTART;TZID=America/New_York:20300919T190000
DTEND;TZID=America/New_York:20300919T203000
DTSTAMP:20260423T184005
CREATED:20260226T224720Z
LAST-MODIFIED:20260317T142754Z
UID:10000186-1916074800-1916080200@greenacton.org
SUMMARY:Biodiversity Committee Meeting
DESCRIPTION:email biodiversity-contact@greenacton.org for more information\, such as location or zoom link
URL:https://greenacton.org/event/biodiversity-committee-7/2030-09-19/
CATEGORIES:biodiversity,monthly-meeting
END:VEVENT
END:VCALENDAR