BEGIN:VCALENDAR
VERSION:2.0
PRODID:-// - ECPv6.15.20//NONSGML v1.0//EN
CALSCALE:GREGORIAN
METHOD:PUBLISH
X-ORIGINAL-URL:https://greenacton.org
X-WR-CALDESC:Events for 
REFRESH-INTERVAL;VALUE=DURATION:PT1H
X-Robots-Tag:noindex
X-PUBLISHED-TTL:PT1H
BEGIN:VTIMEZONE
TZID:America/New_York
BEGIN:DAYLIGHT
TZOFFSETFROM:-0500
TZOFFSETTO:-0400
TZNAME:EDT
DTSTART:20240310T070000
END:DAYLIGHT
BEGIN:STANDARD
TZOFFSETFROM:-0400
TZOFFSETTO:-0500
TZNAME:EST
DTSTART:20241103T060000
END:STANDARD
BEGIN:DAYLIGHT
TZOFFSETFROM:-0500
TZOFFSETTO:-0400
TZNAME:EDT
DTSTART:20250309T070000
END:DAYLIGHT
BEGIN:STANDARD
TZOFFSETFROM:-0400
TZOFFSETTO:-0500
TZNAME:EST
DTSTART:20251102T060000
END:STANDARD
BEGIN:DAYLIGHT
TZOFFSETFROM:-0500
TZOFFSETTO:-0400
TZNAME:EDT
DTSTART:20260308T070000
END:DAYLIGHT
BEGIN:STANDARD
TZOFFSETFROM:-0400
TZOFFSETTO:-0500
TZNAME:EST
DTSTART:20261101T060000
END:STANDARD
BEGIN:DAYLIGHT
TZOFFSETFROM:-0500
TZOFFSETTO:-0400
TZNAME:EDT
DTSTART:20270314T070000
END:DAYLIGHT
BEGIN:STANDARD
TZOFFSETFROM:-0400
TZOFFSETTO:-0500
TZNAME:EST
DTSTART:20271107T060000
END:STANDARD
END:VTIMEZONE
BEGIN:VEVENT
DTSTART;TZID=America/New_York:20260419T140000
DTEND;TZID=America/New_York:20260419T160000
DTSTAMP:20260423T055025
CREATED:20260111T141551Z
LAST-MODIFIED:20260306T223549Z
UID:10000119-1776607200-1776614400@greenacton.org
SUMMARY:Water Committee: April 2026
DESCRIPTION:The Green Acton Water Committee welcomes anyone interested in Acton’s brooks\, ponds\, wetlands\, groundwater\, drinking water\, storm water\, wastewater\, or aquatic ecosystems.  For more information about our work to date\, visit our committee website. \nOur April 2026 meeting will be in hybrid format; join us either in the 2nd floor conference room of Acton Memorial Library\, or by zoom.  For the agenda and zoom link\, please email water-contact@greenacton.org. \nNote that the April date is the 3rd Sunday of the month\, rather than our usual 2nd Sunday.
URL:https://greenacton.org/event/water-committee-april-2026/
LOCATION:Acton Memorial Library\, 486 Main Street\, Acton\, MA\, 01720\, United States
CATEGORIES:water
ORGANIZER;CN="Water Committee":MAILTO:water-committee-contact@greenacton.org
END:VEVENT
BEGIN:VEVENT
DTSTART;TZID=America/New_York:20260416T190000
DTEND;TZID=America/New_York:20260416T203000
DTSTAMP:20260423T055025
CREATED:20260226T224720Z
LAST-MODIFIED:20260317T142754Z
UID:10000133-1776366000-1776371400@greenacton.org
SUMMARY:Biodiversity Committee Meeting
DESCRIPTION:email biodiversity-contact@greenacton.org for more information\, such as location or zoom link
URL:https://greenacton.org/event/biodiversity-committee-7/2026-04-16/
CATEGORIES:biodiversity,monthly-meeting
END:VEVENT
BEGIN:VEVENT
DTSTART;TZID=America/New_York:20260414T190000
DTEND;TZID=America/New_York:20260414T210000
DTSTAMP:20260423T055025
CREATED:20260324T010317Z
LAST-MODIFIED:20260324T010414Z
UID:10000194-1776193200-1776200400@greenacton.org
SUMMARY:April Green Acton Meeting
DESCRIPTION:All are welcome to Green Acton monthly meetings.\nGuidelines for participation: https://greenacton.org/meeting-guidelines/\nAgenda and location or Zoom info will be posted to the announcements list \nhttps://groups.google.com/g/green-acton-announcements \nThe April meeting location is the EOC room of the Public Safety Facility\, 371 Main Street. \nThere will be a Zoom option
URL:https://greenacton.org/event/april2026-green-acton-meeting/
LOCATION:Acton Public Safety Building\, 371 main Street\, Acton\, MA\, 01720\, United States
CATEGORIES:green-acton-monthly
END:VEVENT
BEGIN:VEVENT
DTSTART;TZID=America/New_York:20260406T190000
DTEND;TZID=America/New_York:20260406T203000
DTSTAMP:20260423T055025
CREATED:20260324T011306Z
LAST-MODIFIED:20260324T011431Z
UID:10000196-1775502000-1775507400@greenacton.org
SUMMARY:Materials Committee
DESCRIPTION:Meets by Zoom. Contact materials-contact@greenacton.org for zoom link or for more information. \nYou can learn more about the materials committee at greenacton.org/materials-committee
URL:https://greenacton.org/event/materials-committee-3/
CATEGORIES:materials
END:VEVENT
BEGIN:VEVENT
DTSTART;TZID=America/New_York:20260321T100000
DTEND;TZID=America/New_York:20260321T130000
DTSTAMP:20260423T055025
CREATED:20260304T204609Z
LAST-MODIFIED:20260304T204609Z
UID:10000192-1774087200-1774098000@greenacton.org
SUMMARY:Fixit clinic at the Memorial Library
DESCRIPTION:Do you have a broken item you think could be fixed\, but want some advice on how to do it? Bring it to a Green Acton FixIt Clinic\, offered several times a year in collaboration with the Acton Memorial Library! (Next FixIt Clinic is March 21) \nFixIt Clinic coaches offer advice\, tools\, and supplies to help you repair your item(s). Coaches can show you how to fix clothing\, electrical devices\, toys\, small furniture\, jewelry\, and other portable items\, and can teach folks how to sharpen dull kitchen knives\, to boot! \nFixIt Clinics are held\, three or four times annually\, at the Acton Memorial Library (486 Main Street\, Acton) in the first-floor meeting room. Although coaches and volunteers offer their time for free\, we welcome donations to help defray the costs of tools and hardware.
URL:https://greenacton.org/event/fixit-clinic-at-the-memorial-library/
END:VEVENT
BEGIN:VEVENT
DTSTART;TZID=America/New_York:20260319T190000
DTEND;TZID=America/New_York:20260319T203000
DTSTAMP:20260423T055025
CREATED:20260226T224720Z
LAST-MODIFIED:20260317T142754Z
UID:10000132-1773946800-1773952200@greenacton.org
SUMMARY:Biodiversity Committee Meeting
DESCRIPTION:email biodiversity-contact@greenacton.org for more information\, such as location or zoom link
URL:https://greenacton.org/event/biodiversity-committee-7/2026-03-19/
CATEGORIES:biodiversity,monthly-meeting
END:VEVENT
BEGIN:VEVENT
DTSTART;TZID=America/New_York:20260310T190000
DTEND;TZID=America/New_York:20260310T210000
DTSTAMP:20260423T055025
CREATED:20260221T002903Z
LAST-MODIFIED:20260309T185134Z
UID:10000129-1773169200-1773176400@greenacton.org
SUMMARY:March Green Acton Meeting
DESCRIPTION:All are welcome to Green Acton monthly meetings.\nGuidelines for participation: https://greenacton.org/meeting-guidelines/\nAgenda and location or Zoom info will be posted to the announcements list \nhttps://groups.google.com/g/green-acton-announcements \nThe March meeting location is 25 Half Moon Hill. \nSee  these directions for parking instructions: https://newview.org/directions
URL:https://greenacton.org/event/march-2026-green-acton-meeting/
LOCATION:Acton Town Hall\, 472 Main Street\, Acton\, MA\, 01720\, United States
CATEGORIES:green-acton-monthly
END:VEVENT
BEGIN:VEVENT
DTSTART;TZID=America/New_York:20260308T140000
DTEND;TZID=America/New_York:20260308T160000
DTSTAMP:20260423T055025
CREATED:20260111T141414Z
LAST-MODIFIED:20260111T142505Z
UID:10000117-1772978400-1772985600@greenacton.org
SUMMARY:Water Committee:  March 2026
DESCRIPTION:The Green Acton Water Committee welcomes anyone interested in Acton’s brooks\, ponds\, wetlands\, groundwater\, drinking water\, storm water\, wastewater\, or aquatic ecosystems.  For more information about our work to date\, visit our committee website. \nOur March 2026 meeting will be in hybrid format; join us either in the 2nd floor conference room of Acton Memorial Library\, or by zoom.  For the agenda and zoom link\, please email water-contact@greenacton.org
URL:https://greenacton.org/event/water-committee-march-8/
LOCATION:Acton Memorial Library\, 486 Main Street\, Acton\, MA\, 01720\, United States
CATEGORIES:water
ORGANIZER;CN="Water Committee":MAILTO:water-committee-contact@greenacton.org
END:VEVENT
BEGIN:VEVENT
DTSTART;TZID=America/New_York:20260225T170000
DTEND;TZID=America/New_York:20260225T183000
DTSTAMP:20260423T055025
CREATED:20260129T160427Z
LAST-MODIFIED:20260129T160515Z
UID:10000128-1772038800-1772044200@greenacton.org
SUMMARY:Land Use Committee
DESCRIPTION:All are invited to Green Acton’s Land Use committee meetings every 4th Wednesday \nQuestions? Contact landuse@greenacton.org
URL:https://greenacton.org/event/land-use-committee/
CATEGORIES:landuse
END:VEVENT
BEGIN:VEVENT
DTSTART;TZID=America/New_York:20260224T190000
DTEND;TZID=America/New_York:20260224T203000
DTSTAMP:20260423T055025
CREATED:20260222T211334Z
LAST-MODIFIED:20260223T200216Z
UID:10000130-1771959600-1771965000@greenacton.org
SUMMARY:Celebrating Ten Years of Local Climate Work
DESCRIPTION:Learning from Our Towns on Ten Years of Local Climate Work\nCome hear from activists in Acton\, Hudson\, Maynard and Stow\, including Jim Snyder-Grant of Green Acton\,  as they share actions to address the threat of climate change in their communities. They will be joined by Sen Jamie Eldridge who will give us the perspective from Beacon Hill. Preserving a livable environment is now our responsibility. Please join us for this in-person conversation.\nTuesday\, Feb 24 at 7PM at First Parish of Stow and Acton\, 353 Great Rd in Stow.
URL:https://greenacton.org/event/celebrating-ten-years-of-local-climate-work/
LOCATION:First Parish of Stow and Acton\, 353 Great Rd\, Stow\, MA\, United States
END:VEVENT
BEGIN:VEVENT
DTSTART;TZID=America/New_York:20260219T200000
DTEND;TZID=America/New_York:20260219T200000
DTSTAMP:20260423T055025
CREATED:20260118T225249Z
LAST-MODIFIED:20260118T225249Z
UID:10000124-1771531200-1771531200@greenacton.org
SUMMARY:Biodiversity Committee
DESCRIPTION:email biodiversity-contact@greenacton.org for more information\, such as location or zoom link
URL:https://greenacton.org/event/biodiversity-committee-4/
CATEGORIES:biodiversity
END:VEVENT
BEGIN:VEVENT
DTSTART;TZID=America/New_York:20260216T190000
DTEND;TZID=America/New_York:20260216T200000
DTSTAMP:20260423T055025
CREATED:20260129T160127Z
LAST-MODIFIED:20260129T160127Z
UID:10000127-1771268400-1771272000@greenacton.org
SUMMARY:Energy Committee
DESCRIPTION:Reach us at energy-contact@greenacton.org if you have any questions
URL:https://greenacton.org/event/energy-committee/
CATEGORIES:energy
END:VEVENT
BEGIN:VEVENT
DTSTART;TZID=America/New_York:20260210T190000
DTEND;TZID=America/New_York:20260210T210000
DTSTAMP:20260423T055025
CREATED:20260118T225652Z
LAST-MODIFIED:20260118T231822Z
UID:10000126-1770750000-1770757200@greenacton.org
SUMMARY:February Green Acton Meeting
DESCRIPTION:All are welcome to Green Acton monthly meetings.\nGuidelines for participation: https://greenacton.org/meeting-guidelines/\nAgenda and location or Zoom info will be posted to the announcements list \nhttps://groups.google.com/g/green-acton-announcements \nThe February meeting will be held in Room 126\, Acton Town Hall\, with a Zoom option
URL:https://greenacton.org/event/february-green-acton-meeting/
LOCATION:Acton Town Hall\, 472 Main Street\, Acton\, MA\, 01720\, United States
CATEGORIES:green-acton-monthly
END:VEVENT
BEGIN:VEVENT
DTSTART;TZID=America/New_York:20260208T140000
DTEND;TZID=America/New_York:20260208T160000
DTSTAMP:20260423T055025
CREATED:20260111T141456Z
LAST-MODIFIED:20260111T142306Z
UID:10000118-1770559200-1770566400@greenacton.org
SUMMARY:Water Committee:  February 2026
DESCRIPTION:The Green Acton Water Committee welcomes anyone interested in Acton’s brooks\, ponds\, wetlands\, groundwater\, drinking water\, storm water\, wastewater\, or aquatic ecosystems.  For more information about our work to date\, visit our committee website. \nOur February 2026 meeting will be in hybrid format; join us either in the 2nd floor conference room of Acton Memorial Library\, or by zoom.  For the agenda and zoom link\, please email water-contact@greenacton.org
URL:https://greenacton.org/event/water-committee-february-2026/
LOCATION:Acton Memorial Library\, 486 Main Street\, Acton\, MA\, 01720\, United States
CATEGORIES:water
ORGANIZER;CN="Water Committee":MAILTO:water-committee-contact@greenacton.org
END:VEVENT
BEGIN:VEVENT
DTSTART;TZID=America/New_York:20260128T170000
DTEND;TZID=America/New_York:20260128T183000
DTSTAMP:20260423T055025
CREATED:20251202T224034Z
LAST-MODIFIED:20251205T170858Z
UID:10000101-1769619600-1769625000@greenacton.org
SUMMARY:Land Use Committee
DESCRIPTION:All are invited to Green Acton’s Land Use committee meetings every 4th Wednesday \nQuestions? Contact landuse@greenacton.org
URL:https://greenacton.org/event/land-use-committee-2/
CATEGORIES:landuse
END:VEVENT
BEGIN:VEVENT
DTSTART;TZID=America/New_York:20260122T180000
DTEND;TZID=America/New_York:20260122T200000
DTSTAMP:20260423T055025
CREATED:20260118T224620Z
LAST-MODIFIED:20260118T225118Z
UID:10000123-1769104800-1769112000@greenacton.org
SUMMARY:Biodiversity Committee
DESCRIPTION:email biodiversity-contact@greenacton.org for more information\, such as location or zoom link
URL:https://greenacton.org/event/biodiversity-committee-2/
CATEGORIES:biodiversity
END:VEVENT
BEGIN:VEVENT
DTSTART;TZID=America/New_York:20260120T180000
DTEND;TZID=America/New_York:20260120T190000
DTSTAMP:20260423T055025
CREATED:20251202T205934Z
LAST-MODIFIED:20251216T162407Z
UID:10000092-1768932000-1768935600@greenacton.org
SUMMARY:Energy Committee
DESCRIPTION:Reach us at energy-contact@greenacton.org if you have any questions
URL:https://greenacton.org/event/energy-committee-2/
CATEGORIES:energy
END:VEVENT
BEGIN:VEVENT
DTSTART;TZID=America/New_York:20260113T190000
DTEND;TZID=America/New_York:20260113T210000
DTSTAMP:20260423T055025
CREATED:20260106T161313Z
LAST-MODIFIED:20260110T164038Z
UID:10000114-1768330800-1768338000@greenacton.org
SUMMARY:Green Acton Monthly Meeting
DESCRIPTION:All are welcome to Green Acton monthly meetings.\nGuidelines for participation: https://greenacton.org/meeting-guidelines/\nAgenda and location or Zoom info will be posted to the announcements list: \nhttps://groups.google.com/g/green-acton-announcements
URL:https://greenacton.org/event/green-acton-monthly-meeting-3/
CATEGORIES:green-acton-monthly
ORGANIZER;CN="Green Acton":MAILTO:volunteer-engagement-contact@greenacton.org
END:VEVENT
BEGIN:VEVENT
DTSTART;TZID=America/New_York:20260111T140000
DTEND;TZID=America/New_York:20260111T160000
DTSTAMP:20260423T055025
CREATED:20260108T163928Z
LAST-MODIFIED:20260108T164147Z
UID:10000116-1768140000-1768147200@greenacton.org
SUMMARY:Water Committee: January 2026
DESCRIPTION:The Green Acton Water Committee welcomes anyone interested in Acton’s brooks\, ponds\, wetlands\, groundwater\, drinking water\, storm water\, wastewater\, or aquatic ecosystems.  For more information about our work to date\, visit our committee website. \nOur January 2026 meeting will be in hybrid format; join us either in the 2nd floor conference room of Acton Memorial Library\, or by zoom.  For the agenda and zoom link\, please email water-contact@greenacton.org
URL:https://greenacton.org/event/water-committee-jan-2026/
LOCATION:Acton Memorial Library\, 486 Main Street\, Acton\, MA\, 01720\, United States
CATEGORIES:water
END:VEVENT
BEGIN:VEVENT
DTSTART;TZID=America/New_York:20260105T190000
DTEND;TZID=America/New_York:20260105T203000
DTSTAMP:20260423T055025
CREATED:20251202T225044Z
LAST-MODIFIED:20251202T225044Z
UID:10000102-1767639600-1767645000@greenacton.org
SUMMARY:Materials Committee
DESCRIPTION:Meets by Zoom. Contact materials-contact@greenacton.org for zoom link or for more information
URL:https://greenacton.org/event/materials-committee-2/
CATEGORIES:materials
END:VEVENT
BEGIN:VEVENT
DTSTART;TZID=America/New_York:20251218T200000
DTEND;TZID=America/New_York:20251218T210000
DTSTAMP:20260423T055025
CREATED:20251203T200424Z
LAST-MODIFIED:20251203T200424Z
UID:10000111-1766088000-1766091600@greenacton.org
SUMMARY:Biodiversity Committee
DESCRIPTION:email biodiversity-contact@greenacton.org for more information\, such as location or zoom link
URL:https://greenacton.org/event/biodiversity-committee-3/
CATEGORIES:biodiversity
END:VEVENT
BEGIN:VEVENT
DTSTART;TZID=America/New_York:20251214T140000
DTEND;TZID=America/New_York:20251214T160000
DTSTAMP:20260423T055025
CREATED:20251105T014834Z
LAST-MODIFIED:20251105T014834Z
UID:10000087-1765720800-1765728000@greenacton.org
SUMMARY:Water Committee
DESCRIPTION:Reach the committee for any questions\, including location of meetings or Zoom link\, at water-contact@greenacton.org
URL:https://greenacton.org/event/water-committee-3/
CATEGORIES:water
END:VEVENT
BEGIN:VEVENT
DTSTART;TZID=America/New_York:20251213T093000
DTEND;TZID=America/New_York:20251213T110000
DTSTAMP:20260423T055025
CREATED:20251204T153617Z
LAST-MODIFIED:20251204T153653Z
UID:10000112-1765618200-1765623600@greenacton.org
SUMMARY:Carbon Countdown 2025 (Sustainable Middlesex)
DESCRIPTION:On Sat.\, Dec. 13th\, check out the Carbon Countdown 2025\, sponsored by Sustainable Middlesex from 9:30-11am online. The keynote speaker will be Massachusetts Senator Mike Barrett\, followed by a lightning round focused on five innovative state programs.  For info and registration\, click HERE.
URL:https://greenacton.org/event/carbon-countdown-2025/
END:VEVENT
BEGIN:VEVENT
DTSTART;TZID=America/New_York:20251209T190000
DTEND;TZID=America/New_York:20251209T210000
DTSTAMP:20260423T055025
CREATED:20251105T014141Z
LAST-MODIFIED:20251204T165315Z
UID:10000085-1765306800-1765314000@greenacton.org
SUMMARY:Green Acton Monthly Meeting
DESCRIPTION:All are welcome to Green Acton monthly meetings.\nGuidelines for participation: https://greenacton.org/meeting-guidelines/\nAgenda and location or Zoom info will be posted to the announcements list: \nhttps://groups.google.com/g/green-acton-announcements
URL:https://greenacton.org/event/green-acton-monthly-meeting-2/
CATEGORIES:green-acton-monthly
END:VEVENT
BEGIN:VEVENT
DTSTART;TZID=America/New_York:20251201T190000
DTEND;TZID=America/New_York:20251201T203000
DTSTAMP:20260423T055025
CREATED:20251105T022129Z
LAST-MODIFIED:20251105T022129Z
UID:10000090-1764615600-1764621000@greenacton.org
SUMMARY:Materials Committee
DESCRIPTION:Meets by Zoom. Contact materials-contact@greenacton.org for zoom link or for more information
URL:https://greenacton.org/event/materials-committee/
CATEGORIES:materials
END:VEVENT
BEGIN:VEVENT
DTSTART;TZID=America/New_York:20251120T200000
DTEND;TZID=America/New_York:20251120T210000
DTSTAMP:20260423T055025
CREATED:20251105T022659Z
LAST-MODIFIED:20251105T022659Z
UID:10000091-1763668800-1763672400@greenacton.org
SUMMARY:Biodiversity Committee
DESCRIPTION:email biodiversity-contact@greenacton.org for more information\, such as location or zoom link
URL:https://greenacton.org/event/biodiversity-committee/
CATEGORIES:biodiversity
END:VEVENT
BEGIN:VEVENT
DTSTART;TZID=America/New_York:20251111T190000
DTEND;TZID=America/New_York:20251111T210000
DTSTAMP:20260423T055025
CREATED:20251105T013654Z
LAST-MODIFIED:20251105T013654Z
UID:10000084-1762887600-1762894800@greenacton.org
SUMMARY:Green Acton Monthly Meeting
DESCRIPTION:All are welcome to Green Acton monthly meetings.\nGuidelines for participation: https://greenacton.org/meeting-guidelines/\nAgenda and location or Zoom info will be posted to the announcements list: \nhttps://groups.google.com/g/green-acton-announcements
URL:https://greenacton.org/event/green-acton-monthly-meeting/
CATEGORIES:green-acton-monthly
END:VEVENT
BEGIN:VEVENT
DTSTART;TZID=America/New_York:20251109T140000
DTEND;TZID=America/New_York:20251109T160000
DTSTAMP:20260423T055025
CREATED:20251105T014645Z
LAST-MODIFIED:20251105T014645Z
UID:10000086-1762696800-1762704000@greenacton.org
SUMMARY:Water Committee
DESCRIPTION:Reach the committee for any questions\, including location of meetings or Zoom link\, at water-contact@greenacton.org
URL:https://greenacton.org/event/water-committee-2/
CATEGORIES:water
END:VEVENT
END:VCALENDAR