BEGIN:VCALENDAR
VERSION:2.0
PRODID:-// - ECPv6.15.20//NONSGML v1.0//EN
CALSCALE:GREGORIAN
METHOD:PUBLISH
X-ORIGINAL-URL:https://greenacton.org
X-WR-CALDESC:Events for 
REFRESH-INTERVAL;VALUE=DURATION:PT1H
X-Robots-Tag:noindex
X-PUBLISHED-TTL:PT1H
BEGIN:VTIMEZONE
TZID:America/New_York
BEGIN:DAYLIGHT
TZOFFSETFROM:-0500
TZOFFSETTO:-0400
TZNAME:EDT
DTSTART:20250309T070000
END:DAYLIGHT
BEGIN:STANDARD
TZOFFSETFROM:-0400
TZOFFSETTO:-0500
TZNAME:EST
DTSTART:20251102T060000
END:STANDARD
BEGIN:DAYLIGHT
TZOFFSETFROM:-0500
TZOFFSETTO:-0400
TZNAME:EDT
DTSTART:20260308T070000
END:DAYLIGHT
BEGIN:STANDARD
TZOFFSETFROM:-0400
TZOFFSETTO:-0500
TZNAME:EST
DTSTART:20261101T060000
END:STANDARD
BEGIN:DAYLIGHT
TZOFFSETFROM:-0500
TZOFFSETTO:-0400
TZNAME:EDT
DTSTART:20270314T070000
END:DAYLIGHT
BEGIN:STANDARD
TZOFFSETFROM:-0400
TZOFFSETTO:-0500
TZNAME:EST
DTSTART:20271107T060000
END:STANDARD
END:VTIMEZONE
BEGIN:VEVENT
DTSTART;TZID=America/New_York:20260719T140000
DTEND;TZID=America/New_York:20260719T160000
DTSTAMP:20260423T123918
CREATED:20260111T143144Z
LAST-MODIFIED:20260111T143222Z
UID:10000122-1784469600-1784476800@greenacton.org
SUMMARY:Water Committee:  Summer 2026
DESCRIPTION:The Green Acton Water Committee welcomes anyone interested in Acton’s brooks\, ponds\, wetlands\, groundwater\, drinking water\, storm water\, wastewater\, or aquatic ecosystems.  For more information about our work to date\, visit our committee website. \nGreen Acton takes August off\, so Water Committee schedules one summer meeting\, this year tentatively scheduled for July 19.  The venue is still to be arranged\, and usually someplace outside (the library is closed on Sundays in the summer). For the agenda and venue\, please email water-contact@greenacton.org
URL:https://greenacton.org/event/water-committee-summer-2026/
CATEGORIES:water
ORGANIZER;CN="Water Committee":MAILTO:water-committee-contact@greenacton.org
END:VEVENT
END:VCALENDAR