BEGIN:VCALENDAR
VERSION:2.0
PRODID:-// - ECPv6.15.20//NONSGML v1.0//EN
CALSCALE:GREGORIAN
METHOD:PUBLISH
X-ORIGINAL-URL:https://greenacton.org
X-WR-CALDESC:Events for 
REFRESH-INTERVAL;VALUE=DURATION:PT1H
X-Robots-Tag:noindex
X-PUBLISHED-TTL:PT1H
BEGIN:VTIMEZONE
TZID:America/New_York
BEGIN:DAYLIGHT
TZOFFSETFROM:-0500
TZOFFSETTO:-0400
TZNAME:EDT
DTSTART:20250309T070000
END:DAYLIGHT
BEGIN:STANDARD
TZOFFSETFROM:-0400
TZOFFSETTO:-0500
TZNAME:EST
DTSTART:20251102T060000
END:STANDARD
BEGIN:DAYLIGHT
TZOFFSETFROM:-0500
TZOFFSETTO:-0400
TZNAME:EDT
DTSTART:20260308T070000
END:DAYLIGHT
BEGIN:STANDARD
TZOFFSETFROM:-0400
TZOFFSETTO:-0500
TZNAME:EST
DTSTART:20261101T060000
END:STANDARD
BEGIN:DAYLIGHT
TZOFFSETFROM:-0500
TZOFFSETTO:-0400
TZNAME:EDT
DTSTART:20270314T070000
END:DAYLIGHT
BEGIN:STANDARD
TZOFFSETFROM:-0400
TZOFFSETTO:-0500
TZNAME:EST
DTSTART:20271107T060000
END:STANDARD
BEGIN:DAYLIGHT
TZOFFSETFROM:-0500
TZOFFSETTO:-0400
TZNAME:EDT
DTSTART:20280312T070000
END:DAYLIGHT
BEGIN:STANDARD
TZOFFSETFROM:-0400
TZOFFSETTO:-0500
TZNAME:EST
DTSTART:20281105T060000
END:STANDARD
BEGIN:DAYLIGHT
TZOFFSETFROM:-0500
TZOFFSETTO:-0400
TZNAME:EDT
DTSTART:20290311T070000
END:DAYLIGHT
BEGIN:STANDARD
TZOFFSETFROM:-0400
TZOFFSETTO:-0500
TZNAME:EST
DTSTART:20291104T060000
END:STANDARD
END:VTIMEZONE
BEGIN:VEVENT
DTSTART;TZID=America/New_York:20260521T190000
DTEND;TZID=America/New_York:20260521T203000
DTSTAMP:20260423T074652
CREATED:20260226T224720Z
LAST-MODIFIED:20260317T142754Z
UID:10000134-1779390000-1779395400@greenacton.org
SUMMARY:Biodiversity Committee Meeting
DESCRIPTION:email biodiversity-contact@greenacton.org for more information\, such as location or zoom link
URL:https://greenacton.org/event/biodiversity-committee-7/2026-05-21/
CATEGORIES:biodiversity,monthly-meeting
END:VEVENT
BEGIN:VEVENT
DTSTART;TZID=America/New_York:20260618T190000
DTEND;TZID=America/New_York:20260618T203000
DTSTAMP:20260423T074652
CREATED:20260226T224720Z
LAST-MODIFIED:20260317T142754Z
UID:10000135-1781809200-1781814600@greenacton.org
SUMMARY:Biodiversity Committee Meeting
DESCRIPTION:email biodiversity-contact@greenacton.org for more information\, such as location or zoom link
URL:https://greenacton.org/event/biodiversity-committee-7/2026-06-18/
CATEGORIES:biodiversity,monthly-meeting
END:VEVENT
BEGIN:VEVENT
DTSTART;TZID=America/New_York:20260716T190000
DTEND;TZID=America/New_York:20260716T203000
DTSTAMP:20260423T074652
CREATED:20260226T224720Z
LAST-MODIFIED:20260317T142754Z
UID:10000136-1784228400-1784233800@greenacton.org
SUMMARY:Biodiversity Committee Meeting
DESCRIPTION:email biodiversity-contact@greenacton.org for more information\, such as location or zoom link
URL:https://greenacton.org/event/biodiversity-committee-7/2026-07-16/
CATEGORIES:biodiversity,monthly-meeting
END:VEVENT
BEGIN:VEVENT
DTSTART;TZID=America/New_York:20260820T190000
DTEND;TZID=America/New_York:20260820T203000
DTSTAMP:20260423T074652
CREATED:20260226T224720Z
LAST-MODIFIED:20260317T142754Z
UID:10000137-1787252400-1787257800@greenacton.org
SUMMARY:Biodiversity Committee Meeting
DESCRIPTION:email biodiversity-contact@greenacton.org for more information\, such as location or zoom link
URL:https://greenacton.org/event/biodiversity-committee-7/2026-08-20/
CATEGORIES:biodiversity,monthly-meeting
END:VEVENT
BEGIN:VEVENT
DTSTART;TZID=America/New_York:20260917T190000
DTEND;TZID=America/New_York:20260917T203000
DTSTAMP:20260423T074652
CREATED:20260226T224720Z
LAST-MODIFIED:20260317T142754Z
UID:10000138-1789671600-1789677000@greenacton.org
SUMMARY:Biodiversity Committee Meeting
DESCRIPTION:email biodiversity-contact@greenacton.org for more information\, such as location or zoom link
URL:https://greenacton.org/event/biodiversity-committee-7/2026-09-17/
CATEGORIES:biodiversity,monthly-meeting
END:VEVENT
BEGIN:VEVENT
DTSTART;TZID=America/New_York:20261015T190000
DTEND;TZID=America/New_York:20261015T203000
DTSTAMP:20260423T074652
CREATED:20260226T224720Z
LAST-MODIFIED:20260317T142754Z
UID:10000139-1792090800-1792096200@greenacton.org
SUMMARY:Biodiversity Committee Meeting
DESCRIPTION:email biodiversity-contact@greenacton.org for more information\, such as location or zoom link
URL:https://greenacton.org/event/biodiversity-committee-7/2026-10-15/
CATEGORIES:biodiversity,monthly-meeting
END:VEVENT
BEGIN:VEVENT
DTSTART;TZID=America/New_York:20261119T190000
DTEND;TZID=America/New_York:20261119T203000
DTSTAMP:20260423T074652
CREATED:20260226T224720Z
LAST-MODIFIED:20260317T142754Z
UID:10000140-1795114800-1795120200@greenacton.org
SUMMARY:Biodiversity Committee Meeting
DESCRIPTION:email biodiversity-contact@greenacton.org for more information\, such as location or zoom link
URL:https://greenacton.org/event/biodiversity-committee-7/2026-11-19/
CATEGORIES:biodiversity,monthly-meeting
END:VEVENT
BEGIN:VEVENT
DTSTART;TZID=America/New_York:20261217T190000
DTEND;TZID=America/New_York:20261217T203000
DTSTAMP:20260423T074652
CREATED:20260226T224720Z
LAST-MODIFIED:20260317T142754Z
UID:10000141-1797534000-1797539400@greenacton.org
SUMMARY:Biodiversity Committee Meeting
DESCRIPTION:email biodiversity-contact@greenacton.org for more information\, such as location or zoom link
URL:https://greenacton.org/event/biodiversity-committee-7/2026-12-17/
CATEGORIES:biodiversity,monthly-meeting
END:VEVENT
BEGIN:VEVENT
DTSTART;TZID=America/New_York:20270121T190000
DTEND;TZID=America/New_York:20270121T203000
DTSTAMP:20260423T074652
CREATED:20260226T224720Z
LAST-MODIFIED:20260317T142754Z
UID:10000142-1800558000-1800563400@greenacton.org
SUMMARY:Biodiversity Committee Meeting
DESCRIPTION:email biodiversity-contact@greenacton.org for more information\, such as location or zoom link
URL:https://greenacton.org/event/biodiversity-committee-7/2027-01-21/
CATEGORIES:biodiversity,monthly-meeting
END:VEVENT
BEGIN:VEVENT
DTSTART;TZID=America/New_York:20270218T190000
DTEND;TZID=America/New_York:20270218T203000
DTSTAMP:20260423T074652
CREATED:20260226T224720Z
LAST-MODIFIED:20260317T142754Z
UID:10000143-1802977200-1802982600@greenacton.org
SUMMARY:Biodiversity Committee Meeting
DESCRIPTION:email biodiversity-contact@greenacton.org for more information\, such as location or zoom link
URL:https://greenacton.org/event/biodiversity-committee-7/2027-02-18/
CATEGORIES:biodiversity,monthly-meeting
END:VEVENT
BEGIN:VEVENT
DTSTART;TZID=America/New_York:20270318T190000
DTEND;TZID=America/New_York:20270318T203000
DTSTAMP:20260423T074652
CREATED:20260226T224720Z
LAST-MODIFIED:20260317T142754Z
UID:10000144-1805396400-1805401800@greenacton.org
SUMMARY:Biodiversity Committee Meeting
DESCRIPTION:email biodiversity-contact@greenacton.org for more information\, such as location or zoom link
URL:https://greenacton.org/event/biodiversity-committee-7/2027-03-18/
CATEGORIES:biodiversity,monthly-meeting
END:VEVENT
BEGIN:VEVENT
DTSTART;TZID=America/New_York:20270415T190000
DTEND;TZID=America/New_York:20270415T203000
DTSTAMP:20260423T074652
CREATED:20260226T224720Z
LAST-MODIFIED:20260317T142754Z
UID:10000145-1807815600-1807821000@greenacton.org
SUMMARY:Biodiversity Committee Meeting
DESCRIPTION:email biodiversity-contact@greenacton.org for more information\, such as location or zoom link
URL:https://greenacton.org/event/biodiversity-committee-7/2027-04-15/
CATEGORIES:biodiversity,monthly-meeting
END:VEVENT
BEGIN:VEVENT
DTSTART;TZID=America/New_York:20270520T190000
DTEND;TZID=America/New_York:20270520T203000
DTSTAMP:20260423T074652
CREATED:20260226T224720Z
LAST-MODIFIED:20260317T142754Z
UID:10000146-1810839600-1810845000@greenacton.org
SUMMARY:Biodiversity Committee Meeting
DESCRIPTION:email biodiversity-contact@greenacton.org for more information\, such as location or zoom link
URL:https://greenacton.org/event/biodiversity-committee-7/2027-05-20/
CATEGORIES:biodiversity,monthly-meeting
END:VEVENT
BEGIN:VEVENT
DTSTART;TZID=America/New_York:20270617T190000
DTEND;TZID=America/New_York:20270617T203000
DTSTAMP:20260423T074652
CREATED:20260226T224720Z
LAST-MODIFIED:20260317T142754Z
UID:10000147-1813258800-1813264200@greenacton.org
SUMMARY:Biodiversity Committee Meeting
DESCRIPTION:email biodiversity-contact@greenacton.org for more information\, such as location or zoom link
URL:https://greenacton.org/event/biodiversity-committee-7/2027-06-17/
CATEGORIES:biodiversity,monthly-meeting
END:VEVENT
BEGIN:VEVENT
DTSTART;TZID=America/New_York:20270715T190000
DTEND;TZID=America/New_York:20270715T203000
DTSTAMP:20260423T074652
CREATED:20260226T224720Z
LAST-MODIFIED:20260317T142754Z
UID:10000148-1815678000-1815683400@greenacton.org
SUMMARY:Biodiversity Committee Meeting
DESCRIPTION:email biodiversity-contact@greenacton.org for more information\, such as location or zoom link
URL:https://greenacton.org/event/biodiversity-committee-7/2027-07-15/
CATEGORIES:biodiversity,monthly-meeting
END:VEVENT
BEGIN:VEVENT
DTSTART;TZID=America/New_York:20270819T190000
DTEND;TZID=America/New_York:20270819T203000
DTSTAMP:20260423T074652
CREATED:20260226T224720Z
LAST-MODIFIED:20260317T142754Z
UID:10000149-1818702000-1818707400@greenacton.org
SUMMARY:Biodiversity Committee Meeting
DESCRIPTION:email biodiversity-contact@greenacton.org for more information\, such as location or zoom link
URL:https://greenacton.org/event/biodiversity-committee-7/2027-08-19/
CATEGORIES:biodiversity,monthly-meeting
END:VEVENT
BEGIN:VEVENT
DTSTART;TZID=America/New_York:20270916T190000
DTEND;TZID=America/New_York:20270916T203000
DTSTAMP:20260423T074652
CREATED:20260226T224720Z
LAST-MODIFIED:20260317T142754Z
UID:10000150-1821121200-1821126600@greenacton.org
SUMMARY:Biodiversity Committee Meeting
DESCRIPTION:email biodiversity-contact@greenacton.org for more information\, such as location or zoom link
URL:https://greenacton.org/event/biodiversity-committee-7/2027-09-16/
CATEGORIES:biodiversity,monthly-meeting
END:VEVENT
BEGIN:VEVENT
DTSTART;TZID=America/New_York:20271021T190000
DTEND;TZID=America/New_York:20271021T203000
DTSTAMP:20260423T074652
CREATED:20260226T224720Z
LAST-MODIFIED:20260317T142754Z
UID:10000151-1824145200-1824150600@greenacton.org
SUMMARY:Biodiversity Committee Meeting
DESCRIPTION:email biodiversity-contact@greenacton.org for more information\, such as location or zoom link
URL:https://greenacton.org/event/biodiversity-committee-7/2027-10-21/
CATEGORIES:biodiversity,monthly-meeting
END:VEVENT
BEGIN:VEVENT
DTSTART;TZID=America/New_York:20271118T190000
DTEND;TZID=America/New_York:20271118T203000
DTSTAMP:20260423T074652
CREATED:20260226T224720Z
LAST-MODIFIED:20260317T142754Z
UID:10000152-1826564400-1826569800@greenacton.org
SUMMARY:Biodiversity Committee Meeting
DESCRIPTION:email biodiversity-contact@greenacton.org for more information\, such as location or zoom link
URL:https://greenacton.org/event/biodiversity-committee-7/2027-11-18/
CATEGORIES:biodiversity,monthly-meeting
END:VEVENT
BEGIN:VEVENT
DTSTART;TZID=America/New_York:20271216T190000
DTEND;TZID=America/New_York:20271216T203000
DTSTAMP:20260423T074652
CREATED:20260226T224720Z
LAST-MODIFIED:20260317T142754Z
UID:10000153-1828983600-1828989000@greenacton.org
SUMMARY:Biodiversity Committee Meeting
DESCRIPTION:email biodiversity-contact@greenacton.org for more information\, such as location or zoom link
URL:https://greenacton.org/event/biodiversity-committee-7/2027-12-16/
CATEGORIES:biodiversity,monthly-meeting
END:VEVENT
BEGIN:VEVENT
DTSTART;TZID=America/New_York:20280120T190000
DTEND;TZID=America/New_York:20280120T203000
DTSTAMP:20260423T074652
CREATED:20260226T224720Z
LAST-MODIFIED:20260317T142754Z
UID:10000154-1832007600-1832013000@greenacton.org
SUMMARY:Biodiversity Committee Meeting
DESCRIPTION:email biodiversity-contact@greenacton.org for more information\, such as location or zoom link
URL:https://greenacton.org/event/biodiversity-committee-7/2028-01-20/
CATEGORIES:biodiversity,monthly-meeting
END:VEVENT
BEGIN:VEVENT
DTSTART;TZID=America/New_York:20280217T190000
DTEND;TZID=America/New_York:20280217T203000
DTSTAMP:20260423T074652
CREATED:20260226T224720Z
LAST-MODIFIED:20260317T142754Z
UID:10000155-1834426800-1834432200@greenacton.org
SUMMARY:Biodiversity Committee Meeting
DESCRIPTION:email biodiversity-contact@greenacton.org for more information\, such as location or zoom link
URL:https://greenacton.org/event/biodiversity-committee-7/2028-02-17/
CATEGORIES:biodiversity,monthly-meeting
END:VEVENT
BEGIN:VEVENT
DTSTART;TZID=America/New_York:20280316T190000
DTEND;TZID=America/New_York:20280316T203000
DTSTAMP:20260423T074652
CREATED:20260226T224720Z
LAST-MODIFIED:20260317T142754Z
UID:10000156-1836846000-1836851400@greenacton.org
SUMMARY:Biodiversity Committee Meeting
DESCRIPTION:email biodiversity-contact@greenacton.org for more information\, such as location or zoom link
URL:https://greenacton.org/event/biodiversity-committee-7/2028-03-16/
CATEGORIES:biodiversity,monthly-meeting
END:VEVENT
BEGIN:VEVENT
DTSTART;TZID=America/New_York:20280420T190000
DTEND;TZID=America/New_York:20280420T203000
DTSTAMP:20260423T074652
CREATED:20260226T224720Z
LAST-MODIFIED:20260317T142754Z
UID:10000157-1839870000-1839875400@greenacton.org
SUMMARY:Biodiversity Committee Meeting
DESCRIPTION:email biodiversity-contact@greenacton.org for more information\, such as location or zoom link
URL:https://greenacton.org/event/biodiversity-committee-7/2028-04-20/
CATEGORIES:biodiversity,monthly-meeting
END:VEVENT
BEGIN:VEVENT
DTSTART;TZID=America/New_York:20280518T190000
DTEND;TZID=America/New_York:20280518T203000
DTSTAMP:20260423T074652
CREATED:20260226T224720Z
LAST-MODIFIED:20260317T142754Z
UID:10000158-1842289200-1842294600@greenacton.org
SUMMARY:Biodiversity Committee Meeting
DESCRIPTION:email biodiversity-contact@greenacton.org for more information\, such as location or zoom link
URL:https://greenacton.org/event/biodiversity-committee-7/2028-05-18/
CATEGORIES:biodiversity,monthly-meeting
END:VEVENT
BEGIN:VEVENT
DTSTART;TZID=America/New_York:20280615T190000
DTEND;TZID=America/New_York:20280615T203000
DTSTAMP:20260423T074652
CREATED:20260226T224720Z
LAST-MODIFIED:20260317T142754Z
UID:10000159-1844708400-1844713800@greenacton.org
SUMMARY:Biodiversity Committee Meeting
DESCRIPTION:email biodiversity-contact@greenacton.org for more information\, such as location or zoom link
URL:https://greenacton.org/event/biodiversity-committee-7/2028-06-15/
CATEGORIES:biodiversity,monthly-meeting
END:VEVENT
BEGIN:VEVENT
DTSTART;TZID=America/New_York:20280720T190000
DTEND;TZID=America/New_York:20280720T203000
DTSTAMP:20260423T074652
CREATED:20260226T224720Z
LAST-MODIFIED:20260317T142754Z
UID:10000160-1847732400-1847737800@greenacton.org
SUMMARY:Biodiversity Committee Meeting
DESCRIPTION:email biodiversity-contact@greenacton.org for more information\, such as location or zoom link
URL:https://greenacton.org/event/biodiversity-committee-7/2028-07-20/
CATEGORIES:biodiversity,monthly-meeting
END:VEVENT
BEGIN:VEVENT
DTSTART;TZID=America/New_York:20280817T190000
DTEND;TZID=America/New_York:20280817T203000
DTSTAMP:20260423T074652
CREATED:20260226T224720Z
LAST-MODIFIED:20260317T142754Z
UID:10000161-1850151600-1850157000@greenacton.org
SUMMARY:Biodiversity Committee Meeting
DESCRIPTION:email biodiversity-contact@greenacton.org for more information\, such as location or zoom link
URL:https://greenacton.org/event/biodiversity-committee-7/2028-08-17/
CATEGORIES:biodiversity,monthly-meeting
END:VEVENT
BEGIN:VEVENT
DTSTART;TZID=America/New_York:20280921T190000
DTEND;TZID=America/New_York:20280921T203000
DTSTAMP:20260423T074652
CREATED:20260226T224720Z
LAST-MODIFIED:20260317T142754Z
UID:10000162-1853175600-1853181000@greenacton.org
SUMMARY:Biodiversity Committee Meeting
DESCRIPTION:email biodiversity-contact@greenacton.org for more information\, such as location or zoom link
URL:https://greenacton.org/event/biodiversity-committee-7/2028-09-21/
CATEGORIES:biodiversity,monthly-meeting
END:VEVENT
BEGIN:VEVENT
DTSTART;TZID=America/New_York:20281019T190000
DTEND;TZID=America/New_York:20281019T203000
DTSTAMP:20260423T074652
CREATED:20260226T224720Z
LAST-MODIFIED:20260317T142754Z
UID:10000163-1855594800-1855600200@greenacton.org
SUMMARY:Biodiversity Committee Meeting
DESCRIPTION:email biodiversity-contact@greenacton.org for more information\, such as location or zoom link
URL:https://greenacton.org/event/biodiversity-committee-7/2028-10-19/
CATEGORIES:biodiversity,monthly-meeting
END:VEVENT
END:VCALENDAR