BEGIN:VCALENDAR
VERSION:2.0
PRODID:-// - ECPv6.15.20//NONSGML v1.0//EN
CALSCALE:GREGORIAN
METHOD:PUBLISH
X-ORIGINAL-URL:https://greenacton.org
X-WR-CALDESC:Events for 
REFRESH-INTERVAL;VALUE=DURATION:PT1H
X-Robots-Tag:noindex
X-PUBLISHED-TTL:PT1H
BEGIN:VTIMEZONE
TZID:America/New_York
BEGIN:DAYLIGHT
TZOFFSETFROM:-0500
TZOFFSETTO:-0400
TZNAME:EDT
DTSTART:20240310T070000
END:DAYLIGHT
BEGIN:STANDARD
TZOFFSETFROM:-0400
TZOFFSETTO:-0500
TZNAME:EST
DTSTART:20241103T060000
END:STANDARD
BEGIN:DAYLIGHT
TZOFFSETFROM:-0500
TZOFFSETTO:-0400
TZNAME:EDT
DTSTART:20250309T070000
END:DAYLIGHT
BEGIN:STANDARD
TZOFFSETFROM:-0400
TZOFFSETTO:-0500
TZNAME:EST
DTSTART:20251102T060000
END:STANDARD
BEGIN:DAYLIGHT
TZOFFSETFROM:-0500
TZOFFSETTO:-0400
TZNAME:EDT
DTSTART:20260308T070000
END:DAYLIGHT
BEGIN:STANDARD
TZOFFSETFROM:-0400
TZOFFSETTO:-0500
TZNAME:EST
DTSTART:20261101T060000
END:STANDARD
BEGIN:DAYLIGHT
TZOFFSETFROM:-0500
TZOFFSETTO:-0400
TZNAME:EDT
DTSTART:20270314T070000
END:DAYLIGHT
BEGIN:STANDARD
TZOFFSETFROM:-0400
TZOFFSETTO:-0500
TZNAME:EST
DTSTART:20271107T060000
END:STANDARD
END:VTIMEZONE
BEGIN:VEVENT
DTSTART;TZID=America/New_York:20260406T190000
DTEND;TZID=America/New_York:20260406T203000
DTSTAMP:20260423T090819
CREATED:20260324T011306Z
LAST-MODIFIED:20260324T011431Z
UID:10000196-1775502000-1775507400@greenacton.org
SUMMARY:Materials Committee
DESCRIPTION:Meets by Zoom. Contact materials-contact@greenacton.org for zoom link or for more information. \nYou can learn more about the materials committee at greenacton.org/materials-committee
URL:https://greenacton.org/event/materials-committee-3/
CATEGORIES:materials
END:VEVENT
BEGIN:VEVENT
DTSTART;TZID=America/New_York:20260105T190000
DTEND;TZID=America/New_York:20260105T203000
DTSTAMP:20260423T090819
CREATED:20251202T225044Z
LAST-MODIFIED:20251202T225044Z
UID:10000102-1767639600-1767645000@greenacton.org
SUMMARY:Materials Committee
DESCRIPTION:Meets by Zoom. Contact materials-contact@greenacton.org for zoom link or for more information
URL:https://greenacton.org/event/materials-committee-2/
CATEGORIES:materials
END:VEVENT
BEGIN:VEVENT
DTSTART;TZID=America/New_York:20251201T190000
DTEND;TZID=America/New_York:20251201T203000
DTSTAMP:20260423T090819
CREATED:20251105T022129Z
LAST-MODIFIED:20251105T022129Z
UID:10000090-1764615600-1764621000@greenacton.org
SUMMARY:Materials Committee
DESCRIPTION:Meets by Zoom. Contact materials-contact@greenacton.org for zoom link or for more information
URL:https://greenacton.org/event/materials-committee/
CATEGORIES:materials
END:VEVENT
END:VCALENDAR